{"text_format":"1","workbook":"xlsx","n_sheets":2,"sheets":["List","Patch"],"not_rendered":{"charts":0,"images":0,"macros":0,"external_links":0,"defined_names":0,"comments":0,"pivot_tables":0},"unopened":[],"bounds":{"document_bytes":16777216,"sheet_cells":100000,"rows_first":2000,"rows_last":500,"rows_between":2000,"halvings":0,"cell_chars":16384,"cell_head_chars":4096},"cells_cut":0,"cells_raw":0,"read":"whole","date_system":"1900"}

{"sheet":"List","index":0,"n_rows":32,"n_cols":17,"rows_kept":32,"cut":false,"hidden":false,"merged":[[30,4,30,9],[31,4,31,9]]}
[]
[null,"Inputs",null,null,null,null,null,null,null,null,null,"Outputs"]
[null,"Ch","Instr","Mic","Stand",null,"Ch","Instr","Mic","Stand",null,"Ch","App","Note"]
[null,1,null,null,null,null,25,null,null,null,null,1,null,null,null,null,"tall w boom"]
[null,2,null,null,null,null,26,null,null,null,null,2,null,null,null,null,"tall round base"]
[null,3,null,null,null,null,27,null,null,null,null,3,null,null,null,null,"small w boom"]
[null,4,null,null,null,null,28,null,null,null,null,4,null,null,null,null,"small round base"]
[null,5,null,null,null,null,29,null,null,null,null,5,null,null,null,null,"small round base w boom"]
[null,6,null,null,null,null,30,null,null,null,null,6,null,null,null,null,"clip"]
[null,7,null,null,null,null,31,null,null,null,null,7,null,null,null,null,"-"]
[null,8,null,null,null,null,32,null,null,null,null,8]
[null,9,null,null,null,null,33,null,null,null,null,9]
[null,10,null,null,null,null,34,null,null,null,null,10]
[null,11,null,null,null,null,35,null,null,null,null,11]
[null,12,null,null,null,null,36,null,null,null,null,12]
[null,13,null,null,null,null,37,null,null,null,null,13]
[null,14,null,null,null,null,38,null,null,null,null,14]
[null,15,null,null,null,null,39,null,null,null,null,15]
[null,16,null,null,null,null,40,null,null,null,null,16]
[null,17,null,null,null,null,41,null,null,null,null,17]
[null,18,null,null,null,null,42,null,null,null,null,18]
[null,19,null,null,null,null,43,null,null,null,null,19]
[null,20,null,null,null,null,44,null,null,null,null,20]
[null,21,null,null,null,null,45,null,null,null,null,21]
[null,22,null,null,null,null,46,null,null,null,null,22]
[null,23,null,null,null,null,47,null,null,null,null,23]
[null,24,null,null,null,null,48,null,null,null,null,24]
[null,null,null,null,{"$f":"IF(E31=\"\",\"\",E31)","v":""},null,null,null,null,{"$f":"IF(E32=\"\",\"\",E32)","v":""}]
[]
[]
[null,"Venue:"]
[null,"Date:"]

{"sheet":"Patch","index":1,"n_rows":35,"n_cols":10,"rows_kept":35,"cut":false,"hidden":false,"merged":[[17,1,18,1],[2,1,3,1],[5,1,6,1],[8,1,9,1],[11,1,12,1],[14,1,15,1],[33,6,33,10],[34,6,34,10],[21,1,22,1],[26,1,27,1],[31,1,32,1],[27,6,27,10],[28,6,28,10],[29,6,29,10],[31,6,31,10],[32,6,32,10],[21,6,21,10],[22,6,22,10],[23,6,23,10],[24,6,24,10],[26,6,26,10]]}
["Inputs",null,null,{"$f":"IF(List!E31=\"\",\"\",List!E31)","v":""},null,null,null,null,{"$f":"IF(List!E32=\"\",\"\",List!E32)","v":""}]
[null,null,null,"¨"]
[null,"A",1,2,3,4,5,6,7,8]
[null,null,{"$f":"IF(List!C4=\"\",\"\",List!C4)","v":""},{"$f":"IF(List!C5=\"\",\"\",List!C5)","v":""},{"$f":"IF(List!C6=\"\",\"\",List!C6)","v":""},{"$f":"IF(List!C7=\"\",\"\",List!C7)","v":""},{"$f":"IF(List!C8=\"\",\"\",List!C8)","v":""},{"$f":"IF(List!C9=\"\",\"\",List!C9)","v":""},{"$f":"IF(List!C10=\"\",\"\",List!C10)","v":""},{"$f":"IF(List!C11=\"\",\"\",List!C11)","v":""}]
[]
[null,"B",1,2,3,4,5,6,7,8]
[null,null,{"$f":"IF(List!C12=\"\",\"\",List!C12)","v":""},{"$f":"IF(List!C13=\"\",\"\",List!C13)","v":""},{"$f":"IF(List!C14=\"\",\"\",List!C14)","v":""},{"$f":"IF(List!C15=\"\",\"\",List!C15)","v":""},{"$f":"IF(List!C16=\"\",\"\",List!C16)","v":""},{"$f":"IF(List!C17=\"\",\"\",List!C17)","v":""},{"$f":"IF(List!C18=\"\",\"\",List!C18)","v":""},{"$f":"IF(List!C19=\"\",\"\",List!C19)","v":""}]
[]
[null,"C",1,2,3,4,5,6,7,8]
[null,null,{"$f":"IF(List!C20=\"\",\"\",List!C20)","v":""},{"$f":"IF(List!C21=\"\",\"\",List!C21)","v":""},{"$f":"IF(List!C22=\"\",\"\",List!C22)","v":""},{"$f":"IF(List!C23=\"\",\"\",List!C23)","v":""},{"$f":"IF(List!C24=\"\",\"\",List!C24)","v":""},{"$f":"IF(List!C25=\"\",\"\",List!C25)","v":""},{"$f":"IF(List!C26=\"\",\"\",List!C26)","v":""},{"$f":"IF(List!C27=\"\",\"\",List!C27)","v":""}]
[]
[null,"D",1,2,3,4,5,6,7,8]
[null,null,{"$f":"IF(List!H4=\"\",\"\",List!H4)","v":""},{"$f":"IF(List!H5=\"\",\"\",List!H5)","v":""},{"$f":"IF(List!H6=\"\",\"\",List!H6)","v":""},{"$f":"IF(List!H7=\"\",\"\",List!H7)","v":""},{"$f":"IF(List!H8=\"\",\"\",List!H8)","v":""},{"$f":"IF(List!H9=\"\",\"\",List!H9)","v":""},{"$f":"IF(List!H10=\"\",\"\",List!H10)","v":""},{"$f":"IF(List!H11=\"\",\"\",List!H11)","v":""}]
[]
[null,"E",1,2,3,4,5,6,7,8]
[null,null,{"$f":"IF(List!H12=\"\",\"\",List!H12)","v":""},{"$f":"IF(List!H13=\"\",\"\",List!H13)","v":""},{"$f":"IF(List!H14=\"\",\"\",List!H14)","v":""},{"$f":"IF(List!H15=\"\",\"\",List!H15)","v":""},{"$f":"IF(List!H16=\"\",\"\",List!H16)","v":""},{"$f":"IF(List!H17=\"\",\"\",List!H17)","v":""},{"$f":"IF(List!H18=\"\",\"\",List!H18)","v":""},{"$f":"IF(List!H19=\"\",\"\",List!H19)","v":""}]
[]
[null,"F",1,2,3,4,5,6,7,8]
[null,null,{"$f":"IF(List!H20=\"\",\"\",List!H20)","v":""},{"$f":"IF(List!H21=\"\",\"\",List!H21)","v":""},{"$f":"IF(List!H22=\"\",\"\",List!H22)","v":""},{"$f":"IF(List!H23=\"\",\"\",List!H23)","v":""},{"$f":"IF(List!H24=\"\",\"\",List!H24)","v":""},{"$f":"IF(List!H25=\"\",\"\",List!H25)","v":""},{"$f":"IF(List!H26=\"\",\"\",List!H26)","v":""},{"$f":"IF(List!H27=\"\",\"\",List!H27)","v":""}]
[]
["Outputs",null,null,{"$f":"IF(List!E31=\"\",\"\",List!E31)","v":""},null,null,null,null,{"$f":"IF(List!E32=\"\",\"\",List!E32)","v":""}]
[null,"G",1,2,3,4,"Comments:"]
[null,null,{"$f":"IF(List!M4=\"\",\"\",List!M4)","v":""},{"$f":"IF(List!M5=\"\",\"\",List!M5)","v":""},{"$f":"IF(List!M6=\"\",\"\",List!M6)","v":""},{"$f":"IF(List!M7=\"\",\"\",List!M7)","v":""}]
[null,null,5,6,7,8]
[null,null,{"$f":"IF(List!M8=\"\",\"\",List!M8)","v":""},{"$f":"IF(List!M9=\"\",\"\",List!M9)","v":""},{"$f":"IF(List!M10=\"\",\"\",List!M10)","v":""},{"$f":"IF(List!M11=\"\",\"\",List!M11)","v":""}]
[]
[null,"H",1,2,3,4]
[null,null,{"$f":"IF(List!M12=\"\",\"\",List!M12)","v":""},{"$f":"IF(List!M13=\"\",\"\",List!M13)","v":""},{"$f":"IF(List!M14=\"\",\"\",List!M4)","v":""},{"$f":"IF(List!M15=\"\",\"\",List!M15)","v":""}]
[null,null,5,6,7,8]
[null,null,{"$f":"IF(List!M16=\"\",\"\",List!M16)","v":""},{"$f":"IF(List!M17=\"\",\"\",List!M17)","v":""},{"$f":"IF(List!M18=\"\",\"\",List!M18)","v":""},{"$f":"IF(List!M19=\"\",\"\",List!M19)","v":""}]
[]
[null,"I",1,2,3,4]
[null,null,{"$f":"IF(List!M20=\"\",\"\",List!M20)","v":""},{"$f":"IF(List!M21=\"\",\"\",List!M21)","v":""},{"$f":"IF(List!M22=\"\",\"\",List!M22)","v":""},{"$f":"IF(List!M23=\"\",\"\",List!M23)","v":""}]
[null,null,5,6,7,8]
[null,null,{"$f":"IF(List!M24=\"\",\"\",List!M24)","v":""},{"$f":"IF(List!M25=\"\",\"\",List!M25)","v":""},{"$f":"IF(List!M26=\"\",\"\",List!M26)","v":""},{"$f":"IF(List!M27=\"\",\"\",List!M27)","v":""}]